BEGIN:VCALENDAR
VERSION:2.0
PRODID:-//ChamberMaster//Event Calendar 2.0//EN
METHOD:PUBLISH
X-PUBLISHED-TTL:P3D
REFRESH-INTERVAL:P3D
CALSCALE:GREGORIAN
BEGIN:VEVENT
DTSTART:20241206T223000Z
DTEND:20241207T010000Z
X-MICROSOFT-CDO-ALLDAYEVENT:FALSE
SUMMARY:Elk's Lodge Holiday Party 2024
DESCRIPTION:
X-ALT-DESC;FMTTYPE=text/html:<p canva="" class="fFOiLQ _5Ob_nQ fM_HdA upnMoA" color:="" font-size:="" font-variation-settings:="" line-height:="" margin:="" noto="" overflow-wrap:="" sans="" segoe="" style="user-select: text\; -webkit-font-smoothing: antialiased\; text-size-adjust: none\; font-family: " white-space-collapse:="">&nbsp\;</p>\n\n<h2><br />\n<br />\n&nbsp\;&nbsp\;&nbsp\;&nbsp\;&nbsp\;&nbsp\;&nbsp\;&nbsp\;&nbsp\;&nbsp\;&nbsp\;&nbsp\;&nbsp\;&nbsp\;&nbsp\;&nbsp\;&nbsp\;&nbsp\;&nbsp\;&nbsp\;&nbsp\;&nbsp\;&nbsp\;&nbsp\;&nbsp\;&nbsp\;&nbsp\;&nbsp\;&nbsp\;&nbsp\;&nbsp\;&nbsp\;&nbsp\;&nbsp\;&nbsp\;&nbsp\;&nbsp\;&nbsp\;&nbsp\;&nbsp\;&nbsp\;&nbsp\;&nbsp\;&nbsp\;&nbsp\;&nbsp\;&nbsp\;&nbsp\;&nbsp\;&nbsp\;&nbsp\;&nbsp\;&nbsp\;&nbsp\;&nbsp\;&nbsp\;&nbsp\;&nbsp\;&nbsp\;&nbsp\;&nbsp\;&nbsp\;&nbsp\;&nbsp\;&nbsp\;&nbsp\;&nbsp\;&nbsp\;&nbsp\;&nbsp\;&nbsp\;&nbsp\;&nbsp\;</h2>\n
LOCATION:Celebrate the holiday season with us at the Elk's Lodge! This year\, we're bringing the magic of the movie "Elf" to life with our festive theme. We will have raffle baskets\, trivia\, best elf costume\, and more! We are requesting voluntary $50 sponsorships to assist with the costs this year. Your contribution will go towards catering\, supplies\, cookie trays\, decorations\, etc. Sponsors will receive social media recognition\, business logo on the chamber website\, and recognition at the event. If you would like to sponsor\, please email director@cfchamber.com or you can sign up for a sponsorship through the registration link. Thanks to our sponsors - Western Reserve Hospital\, Larsco Construction\, Inova Staffing\, KAZ Company\, Rinella Legacy Group\, CC Realty Property Management Catering by Kitchen on Front $30.00 Per Person Includes dinner and one raffle ticket. Cash bar available Doors open at 5:30 p.m. Dinner at 6 p.m. Trivia at 7 p.m. Raffle basket winners announced after trivia! Elks Lodge | 2555 State Road |Cuyahoga Falls\, OH 44223 *Entrance in the back
UID:e.2279.8601
SEQUENCE:3
DTSTAMP:20260424T124031Z
URL:https://business.cfchamber.com/events/details/elk-s-lodge-holiday-party-2024-8601
END:VEVENT

END:VCALENDAR
