BEGIN:VCALENDAR
VERSION:2.0
PRODID:-//ChamberMaster//Event Calendar 2.0//EN
METHOD:PUBLISH
X-PUBLISHED-TTL:P3D
REFRESH-INTERVAL:P3D
CALSCALE:GREGORIAN
BEGIN:VEVENT
DTSTART:20231212T200000Z
DTEND:20231212T204500Z
X-MICROSOFT-CDO-ALLDAYEVENT:FALSE
SUMMARY:December Member Orientation Q&A
DESCRIPTION:
X-ALT-DESC;FMTTYPE=text/html:
LOCATION:Topic: Member Orientation Q&A Time: Dec 12\, 2023 3:00 PM Eastern Time (US and Canada) Join Zoom Meeting https://us02web.zoom.us/j/81111375656 Meeting ID: 811 1137 5656 One tap mobile +16469313860\,\,81111375656# US +19292056099\,\,81111375656# US (New York) We have organized this virtual session to help you get to know your Chamber better! We have board members participating for each session. Questions about membership\, events\, volunteering? We got you covered. We hope to see you online!
UID:e.2279.8536
SEQUENCE:3
DTSTAMP:20260425T114605Z
URL:https://business.cfchamber.com/events/details/december-member-orientation-q-a-8536
END:VEVENT

END:VCALENDAR
