BEGIN:VCALENDAR
VERSION:2.0
PRODID:-//ChamberMaster//Event Calendar 2.0//EN
METHOD:PUBLISH
X-PUBLISHED-TTL:P3D
REFRESH-INTERVAL:P3D
CALSCALE:GREGORIAN
BEGIN:VEVENT
DTSTART:20230330T153000Z
DTEND:20230330T170000Z
X-MICROSOFT-CDO-ALLDAYEVENT:FALSE
SUMMARY:Connections to Resources - With Becky Wolfe\, BW Consulting Solutions
DESCRIPTION:Connections to Resources is a program available to all Cuyahoga Falls Chamber of Commerce members.  Programs are free to present and free to attend.   The programs can be scheduled on Mondays or Thursdays from 12:00 to 1:00 pm in Conference Room A in the Gateway.  \n\nPresenters provide educational information on topics related to the needs of our members and the services/products that the member provides.  To schedule a Connections to Resources program\, contact Kamelia Fisher\, Executive Director at director@cfchamber.com.
X-ALT-DESC;FMTTYPE=text/html:<span style="background:white\;"><span style="color:#333333\;"><span style="font-family:arial\,sans-serif\;"><span style="font-size:10.0pt\;">Connections to Resources is a program available to all Cuyahoga Falls Chamber of Commerce&nbsp\;members.&nbsp\; Programs are free to present and free to attend.&nbsp\; &nbsp\;The programs can be scheduled on Mondays or Thursdays from 12:00 to 1:00 pm in Conference Room A in the Gateway.&nbsp\;&nbsp\;</span></span></span></span><br />\n<span style="color:#333333\;"><span style="font-family:arial\,sans-serif\;"><span style="font-size:10.0pt\;"><span style="background:white\;">Presenters provide educational information on topics related to the needs of our members and the services/products that the member provides.&nbsp\; To schedule a Connections to Resources program\, contact Kamelia Fisher\, Executive Director at director@cfchamber.com.</span></span></span></span>
LOCATION:The Gateway Cuyahoga Falls Chamber of Commerce 111 Stow Avenue Suite 200 Conference Room A
UID:e.2279.8131
SEQUENCE:3
DTSTAMP:20260426T010129Z
URL:https://business.cfchamber.com/events/details/connections-to-resources-with-becky-wolfe-bw-consulting-solutions-8131
END:VEVENT

END:VCALENDAR
