BEGIN:VCALENDAR
VERSION:2.0
PRODID:-//ChamberMaster//Event Calendar 2.0//EN
METHOD:PUBLISH
X-PUBLISHED-TTL:P3D
REFRESH-INTERVAL:P3D
CALSCALE:GREGORIAN
BEGIN:VEVENT
DTSTART:20230109T170000Z
DTEND:20230109T180000Z
X-MICROSOFT-CDO-ALLDAYEVENT:FALSE
SUMMARY:Connections to Resources - Understanding Life Insurance
DESCRIPTION:Connections to Resources is a program available to all Cuyahoga Falls Chamber of Commerce  members.  Programs are free to present and free to attend.   The programs can be scheduled on Mondays or Thursdays from 12:00 to 1:00 pm in Conference Room A in the Gateway.  \n\nPresenters provide educational information on topics related to the needs of our members and the services/products that the member provides.  To schedule a Connections to Resources program\, contact Kamelia Fisher\, Executive Director at director@cfchamber.com.
X-ALT-DESC;FMTTYPE=text/html:Connections to Resources is a program available to all Cuyahoga Falls Chamber of Commerce&nbsp\; members.&nbsp\; Programs are free to present and free to attend.&nbsp\; &nbsp\;The programs can be scheduled on Mondays or Thursdays from 12:00 to 1:00 pm in Conference Room A in the Gateway.&nbsp\;&nbsp\;<br />\nPresenters provide educational information on topics related to the needs of our members and the services/products that the member provides.&nbsp\; To schedule a Connections to Resources program\, contact Kamelia Fisher\, Executive Director at director@cfchamber.com.
LOCATION:The Gateway 111 Stow Avenue\, Suite 200 Conference Room A
UID:e.2279.8087
SEQUENCE:3
DTSTAMP:20260426T034932Z
URL:https://business.cfchamber.com/events/details/connections-to-resources-understanding-life-insurance-8087
END:VEVENT

END:VCALENDAR
