BEGIN:VCALENDAR
VERSION:2.0
PRODID:-//ChamberMaster//Event Calendar 2.0//EN
METHOD:PUBLISH
X-PUBLISHED-TTL:P3D
REFRESH-INTERVAL:P3D
CALSCALE:GREGORIAN
BEGIN:VEVENT
DTSTART:20230710T160000Z
DTEND:20230710T170000Z
X-MICROSOFT-CDO-ALLDAYEVENT:FALSE
SUMMARY:Connections to Resources featuring Pastor David Hull-Frye
DESCRIPTION:David Hull-Frye is Pastor at Grandview United Methodist Church\, an Inter-Generational Multi-Cultural Christian Faith Community located at 23rd and Phelps Ave.  He has a Bachelor of Social Work degree from Bluffton University (01) and a Master of Divinity degree (09) from the Methodist Theological School in Ohio.\n\n \n\nDavid grew up in a racially and culturally diverse neighborhood in Cleveland\, which has shaped his understanding of caring for all people. After 9/11\, David spent a year resettling Bosnian and Sudanese refugees in Sioux Falls\, South Dakota.  He currently pastors a multi-cultural congregation that includes the first Nepali Speaking Christian congregation in the Akron area.  In 2018 David attended the Mosaic church conference which focuses on expanding diversity in churches and has served on the East Ohio United Methodist Multi-Cultural Vitality Board. He is the 2023 recipient of the East Ohio Methodist Federation for Social Action Bishop Thomas Leadership Award. The Bishop Thomas award is given to those active in peace justice work in their community.
X-ALT-DESC;FMTTYPE=text/html:<span style="color:black\;"><span style="font-family:arial\,sans-serif\;"><span style="font-size:13.0pt\;">David Hull-Frye is Pastor at Grandview United Methodist Church\, an Inter-Generational Multi-Cultural Christian Faith Community located at 23rd and Phelps Ave.&nbsp\; He has a Bachelor of Social Work degree from Bluffton University (01) and a Master of Divinity degree (09) from the Methodist Theological School in Ohio.</span></span></span><br />\n&nbsp\;<br />\n<span style="color:black\;"><span style="font-family:arial\,sans-serif\;"><span style="font-size:13.0pt\;">David grew up in a racially and culturally diverse neighborhood in Cleveland\, which has shaped his understanding of caring for all people. After 9/11\, David spent a year resettling Bosnian and Sudanese refugees in Sioux Falls\, South Dakota.&nbsp\; He currently pastors a multi-cultural congregation that includes the first Nepali Speaking Christian congregation in the Akron area.&nbsp\; In 2018 David attended the Mosaic church conference which focuses on expanding diversity in churches and has served on the East Ohio United Methodist Multi-Cultural Vitality Board. He is the 2023 recipient of the East Ohio Methodist Federation for Social Action Bishop Thomas Leadership Award. The Bishop Thomas award is given to those active in peace justice work in their community.</span></span></span><br />\n&nbsp\;<br />\n&nbsp\;
LOCATION:The Gateway Conference Room Cuyahoga Falls Chamber of Commerce 111 Stow Avenue Suite 200
UID:e.2279.8496
SEQUENCE:3
DTSTAMP:20260425T201438Z
URL:https://business.cfchamber.com/events/details/connections-to-resources-featuring-pastor-david-hull-frye-8496
END:VEVENT

END:VCALENDAR
