BEGIN:VCALENDAR
VERSION:2.0
PRODID:-//ChamberMaster//Event Calendar 2.0//EN
METHOD:PUBLISH
X-PUBLISHED-TTL:P3D
REFRESH-INTERVAL:P3D
CALSCALE:GREGORIAN
BEGIN:VEVENT
DTSTART:20240912T153000Z
DTEND:20240912T170000Z
X-MICROSOFT-CDO-ALLDAYEVENT:FALSE
SUMMARY:Connecting Women to Women September 2024
DESCRIPTION:About Chrissy Myers:\n\nChrissy is the author of Reluctantly Resilient and CEO of AUI and Clarity HR which provide insurance benefits and HR services to small and medium sized businesses in both for profit and non-profit sectors.  Chrissy describes herself as the chief cheerleader for both companies setting direction\, steering marketing content\, and finding creative ways to disrupt two established business sectors.  Chrissy is also the author of AUI Gives Back & Clarity Cares two community impact programs where employees serve in the community\, track their impact and share what they are doing on behalf of their customers. \n\n \n\nAround Akron Chrissy works to leave her community a better place.  She is a graduate of Leadership Ohio\, Torchbearers\, Leadership Akron\, Goldman Sachs 10\,000 Small Businesses\, Scalerator NEO and Community Leadership Institute.  She has received the 30 for the Future Award from the Greater Akron Chamber and an Achievement on Excellence Award from National Sales and Marketing Executives. \n\n \n\nAs an advocate for families struggling with addiction and mental health issues\, Chrissy serves as the Vice Chair of the Alcohol\, Drug Addiction\, and Mental Health Services Board of Summit County.  In addition\, Chrissy serves on the Board of Directors for the Greater Akron Chamber\, Goodwill Industries of Northeast Ohio and Jobs for Ohio Graduates.  \n\n \n\nChrissy received her Bachelors in Business Administration from John Carroll University and her MBA from the University of Akron.  When she is not plotting world domination of the insurance industry or volunteering in the community Chrissy can be found at home with Team Awesome Sauce who includes her husband\, Steve\, and two children\, Maddy and Caleb.
X-ALT-DESC;FMTTYPE=text/html:<p><span style="font-family:verdana\;"><span style="font-size:12px\;">About Chrissy Myers:<br />\nChrissy is the author of&nbsp\;<em>Reluctantly Resilient</em>&nbsp\;and CEO of AUI and Clarity HR which provide insurance benefits and HR services to small and medium sized businesses in both for profit and non-profit sectors.&nbsp\; Chrissy describes herself as the chief cheerleader for both companies setting direction\, steering marketing content\, and finding creative ways to disrupt two established business sectors.&nbsp\; Chrissy is also the author of AUI Gives Back &amp\; Clarity Cares two community impact programs where employees serve in the community\, track their impact and share what they are doing on behalf of their customers.&nbsp\;<br />\n&nbsp\;<br />\nAround Akron Chrissy works to leave her community a better place.&nbsp\; She is a graduate of Leadership Ohio\, Torchbearers\, Leadership Akron\, Goldman Sachs 10\,000 Small Businesses\, Scalerator NEO and Community Leadership Institute.&nbsp\; She has received the 30 for the Future Award from the Greater Akron Chamber and an Achievement on Excellence Award from National Sales and Marketing Executives.&nbsp\;<br />\n&nbsp\;<br />\nAs an advocate for families struggling with addiction and mental health issues\, Chrissy serves as the Vice Chair of the Alcohol\, Drug Addiction\, and Mental Health Services Board of Summit County. &nbsp\;In addition\, Chrissy serves on the Board of Directors for the Greater Akron Chamber\, Goodwill Industries of Northeast Ohio and Jobs for Ohio Graduates. &nbsp\;<br />\n&nbsp\;<br />\nChrissy received her Bachelors in Business Administration from John Carroll University and her MBA from the University of Akron.&nbsp\; When she is not plotting world domination of the insurance industry or volunteering in the community Chrissy can be found at home with Team Awesome Sauce who includes her husband\, Steve\, and two children\, Maddy and Caleb.&nbsp\;</span></span></p>\n
LOCATION:Cashmere Cricket Cuyahoga Falls 11:30 a.m. - 1:00 p.m.
UID:e.2279.8548
SEQUENCE:3
DTSTAMP:20260424T185004Z
URL:https://business.cfchamber.com/events/details/connecting-women-to-women-september-2024-8548
END:VEVENT

END:VCALENDAR
