BEGIN:VCALENDAR
VERSION:2.0
PRODID:-//ChamberMaster//Event Calendar 2.0//EN
METHOD:PUBLISH
X-PUBLISHED-TTL:P3D
REFRESH-INTERVAL:P3D
CALSCALE:GREGORIAN
BEGIN:VEVENT
DTSTART:20230914T153000Z
DTEND:20230914T170000Z
X-MICROSOFT-CDO-ALLDAYEVENT:FALSE
SUMMARY:Connecting Women to Women September 2023
DESCRIPTION:Thank you to our sponsors:\n\nMarcy Imperi\, Plumtree Real Estate Marketing www.askMarcy.biz \n\nToni Fry\, Primerica    www.primerica.com/tonifry
X-ALT-DESC;FMTTYPE=text/html:<span style="font-size:14px\;"><strong><span style="background:white\;"><span style="color:#333333\;"><span style="font-family:arial\,sans-serif\;">Thank you to our sponsors:</span></span></span></strong><br style="font-variant-ligatures:normal\;font-variant-caps:normal\;orphans:2\;text-align:start\;widows:2\;-webkit-text-stroke-width:0px\;text-decoration-thickness:initial\;text-decoration-style:initial\;word-spacing:0px\;" />\n<span style="color:#333333\;"><span style="font-family:arial\,sans-serif\;"><span style="background:white\;"><span style="font-variant-ligatures:normal\;font-variant-caps:normal\;orphans:2\;text-align:start\;widows:2\;-webkit-text-stroke-width:0px\;text-decoration-thickness:initial\;text-decoration-style:initial\;float:none\;word-spacing:0px\;">Marcy Imperi\, Plumtree Real Estate Marketing <a href="http://www.askMarcy.biz" target="_blank">www.askMarcy.biz&nbsp\;</a></span></span></span></span><br style="font-variant-ligatures:normal\;font-variant-caps:normal\;orphans:2\;text-align:start\;widows:2\;-webkit-text-stroke-width:0px\;text-decoration-thickness:initial\;text-decoration-style:initial\;word-spacing:0px\;" />\n<span style="color:#333333\;"><span style="font-family:arial\,sans-serif\;"><span style="background:white\;"><span style="font-variant-ligatures:normal\;font-variant-caps:normal\;orphans:2\;text-align:start\;widows:2\;-webkit-text-stroke-width:0px\;text-decoration-thickness:initial\;text-decoration-style:initial\;float:none\;word-spacing:0px\;">Toni Fry\, Primerica&nbsp\; &nbsp\;&nbsp\;</span></span></span></span><u style="font-variant-ligatures:normal\;font-variant-caps:normal\;orphans:2\;text-align:start\;widows:2\;-webkit-text-stroke-width:0px\;word-spacing:0px\;"><span style="color:mediumblue\;"><span style="font-family:arial\,sans-serif\;"><a href="http://www.primerica.com/tonifry">www.primerica.com/tonifry</a></span></span></u></span>
LOCATION:Lunch is provided by the Kitchen On Front Street Cashmere Cricket 2235 Front Street Cuyahoga Falls Event open to Cuyahoga Falls Chamber women $20 each - includes lunch and program
UID:e.2279.8091
SEQUENCE:3
DTSTAMP:20260425T154438Z
URL:https://business.cfchamber.com/events/details/connecting-women-to-women-september-2023-8091
END:VEVENT

END:VCALENDAR
