BEGIN:VCALENDAR
VERSION:2.0
PRODID:-//ChamberMaster//Event Calendar 2.0//EN
METHOD:PUBLISH
X-PUBLISHED-TTL:P3D
REFRESH-INTERVAL:P3D
CALSCALE:GREGORIAN
BEGIN:VEVENT
DTSTART:20240509T153000Z
DTEND:20240509T170000Z
X-MICROSOFT-CDO-ALLDAYEVENT:FALSE
SUMMARY:Connecting Women to Women May 2024
DESCRIPTION:Bio:\n\nCasey Shevlin is a former academic and researcher. From 2017-2019\, she led the development and execution of a countywide gender diversity and equity study for Women's Network in Akron. She currently works for the City of Akron as the Director of Sustainability and Resiliency.    \n\n\n\nCasey is originally from New York and received her B.A. in English from Emmanuel College in Boston and her M.A. in English from the University of Akron. She lives with her husband in the Firestone Park neighborhood of Akron and serves on the Women's Network Leadership Institute's Advisory Council and on the Board of the Conservancy for the Cuyahoga Valley National Park.
X-ALT-DESC;FMTTYPE=text/html:<h3><span style="font-size:12px\;"><span style="font-family: verdana\;">Bio:<br />\nCasey Shevlin is a former academic and researcher. From 2017-2019\, she led the development and execution of a countywide gender diversity and equity study for Women&rsquo\;s Network in Akron. She currently</span></span><span style="font-family:calibri\,sans-serif\;"><span style="font-size:11.0pt\;">&nbsp\;works for the City of Akron as the Director of Sustainability and Resiliency.</span></span><span style="font-size:12px\;"><span style="font-family: verdana\;">&nbsp\; &nbsp\;&nbsp\;<br />\n<br />\nCasey is originally from New York and received her B.A. in English from Emmanuel College in Boston and her M.A. in English from the University of Akron. She lives with her husband in the Firestone Park neighborhood of Akron and serves on the Women&rsquo\;s Network Leadership Institute&rsquo\;s Advisory Council and on the Board of the Conservancy for the Cuyahoga Valley National Park.</span></span></h3>\n\n<h4>&nbsp\;</h4>\n
LOCATION:Cashmere Cricket
UID:e.2279.8549
SEQUENCE:3
DTSTAMP:20260425T032350Z
URL:https://business.cfchamber.com/events/details/connecting-women-to-women-may-2024-8549
END:VEVENT

END:VCALENDAR
