BEGIN:VCALENDAR
VERSION:2.0
PRODID:-//ChamberMaster//Event Calendar 2.0//EN
METHOD:PUBLISH
X-PUBLISHED-TTL:P3D
REFRESH-INTERVAL:P3D
CALSCALE:GREGORIAN
BEGIN:VEVENT
DTSTART:20220512T153000Z
DTEND:20220512T170000Z
X-MICROSOFT-CDO-ALLDAYEVENT:FALSE
SUMMARY:Connecting Women to Women May 12\, 2022
DESCRIPTION:The Cuyahoga Falls and Stow-Munroe Falls Chambers of Commerce have collaborated to develop a new professional development and educational series. Connecting Women to Women offers an environment for women at any stage of their careers to connect\, foster and sustain meaningful relationship\; gain valuable resources within their community\, and build allies and advocates. \n\nThe series is open to any woman who is a member of either Chamber.
X-ALT-DESC;FMTTYPE=text/html:<span style="background:white\;"><span style="color:#333333\;"><span style="font-family:arial\,sans-serif\;"><span style="font-size:10.0pt\;">The Cuyahoga Falls and Stow-Munroe Falls Chambers of Commerce have collaborated to develop a new professional development and educational series. Connecting Women to Women offers an environment for women at any stage of their careers to connect\, foster and sustain meaningful relationship\; gain valuable resources within their community\, and build allies and advocates.&nbsp\;</span></span></span></span><br />\n<span style="color:#333333\;"><span style="font-family:arial\,sans-serif\;"><span style="font-size:10.0pt\;"><span style="background:white\;">The series is open to any woman who is a member of either Chamber.&nbsp\;</span></span></span></span>
LOCATION:Acker-Moore Memorial Post 3733 Fishcreek Road Stow 44224
UID:e.2279.8023
SEQUENCE:3
DTSTAMP:20260426T031943Z
URL:https://business.cfchamber.com/events/details/connecting-women-to-women-may-12-2022-8023
END:VEVENT

END:VCALENDAR
