BEGIN:VCALENDAR
VERSION:2.0
PRODID:-//ChamberMaster//Event Calendar 2.0//EN
METHOD:PUBLISH
X-PUBLISHED-TTL:P3D
REFRESH-INTERVAL:P3D
CALSCALE:GREGORIAN
BEGIN:VEVENT
DTSTART:20231130T213000Z
DTEND:20231130T230000Z
X-MICROSOFT-CDO-ALLDAYEVENT:FALSE
SUMMARY:Connecting Women to Women Holiday Social
DESCRIPTION:Connecting Women to Women provides an environment for women to connect\, foster and sustain meaningful relationships\; gain valuable resources within their community\, and build allies and advocates.
X-ALT-DESC;FMTTYPE=text/html:<span style="background-image: initial\; background-position: initial\; background-size: initial\; background-repeat: initial\; background-attachment: initial\; background-origin: initial\; background-clip: initial\;"><span style="font-family: arial\, sans-serif\;"><span style="font-size: 10pt\;">Connecting Women to Women provides an environment for women to connect\, foster and sustain meaningful relationships\; gain valuable resources within their community\, and build allies and advocates.&nbsp\;</span></span></span><br />\n&nbsp\;
LOCATION:Cashmere Cricket 2235 Front Street Cuyahoga Falls\, Oh 44221
UID:e.2279.8530
SEQUENCE:3
DTSTAMP:20260425T120057Z
URL:https://business.cfchamber.com/events/details/connecting-women-to-women-holiday-social-8530
END:VEVENT

END:VCALENDAR
