BEGIN:VCALENDAR
VERSION:2.0
PRODID:-//ChamberMaster//Event Calendar 2.0//EN
METHOD:PUBLISH
X-PUBLISHED-TTL:P3D
REFRESH-INTERVAL:P3D
CALSCALE:GREGORIAN
BEGIN:VEVENT
DTSTART:20230309T163000Z
DTEND:20230309T180000Z
X-MICROSOFT-CDO-ALLDAYEVENT:FALSE
SUMMARY:Connecting Women to Women - CANCELLED
DESCRIPTION:Thank you to our sponsors. \n\n\n\nMarcy Imperi\, Key Realty NEO    www.keyrealtyneo.com\n\n\n\nToni Fry\, Primerica    www.primerica.com/tonifry
X-ALT-DESC;FMTTYPE=text/html:<span style="background:white\;"><span style="color:#333333\;"><span style="font-family:arial\,sans-serif\;"><span style="font-size:10.0pt\;">Thank you to our sponsors.&nbsp\;</span></span></span></span><br style="font-variant-ligatures:normal\;font-variant-caps:normal\;orphans:2\;text-align:start\;widows:2\;-webkit-text-stroke-width:0px\;text-decoration-thickness:initial\;text-decoration-style:initial\;word-spacing:0px\;" />\n<br style="font-variant-ligatures:normal\;font-variant-caps:normal\;orphans:2\;text-align:start\;widows:2\;-webkit-text-stroke-width:0px\;text-decoration-thickness:initial\;text-decoration-style:initial\;word-spacing:0px\;" />\n<span style="color:#333333\;"><span style="font-family:arial\,sans-serif\;"><span style="font-size:10.0pt\;"><span style="background:white\;"><span style="font-variant-ligatures:normal\;font-variant-caps:normal\;orphans:2\;text-align:start\;widows:2\;-webkit-text-stroke-width:0px\;text-decoration-thickness:initial\;text-decoration-style:initial\;float:none\;word-spacing:0px\;">Marcy Imperi\, Key Realty NEO&nbsp\; &nbsp\;&nbsp\;</span></span></span></span></span><u><span style="color:mediumblue\;"><span style="font-family:arial\,sans-serif\;"><span style="font-size:10.0pt\;"><span style="font-variant-ligatures:normal\;font-variant-caps:normal\;orphans:2\;text-align:start\;widows:2\;-webkit-text-stroke-width:0px\;text-decoration-thickness:initial\;text-decoration-style:initial\;word-spacing:0px\;">www.keyrealtyneo.com</span></span></span></span></u><br style="font-variant-ligatures:normal\;font-variant-caps:normal\;orphans:2\;text-align:start\;widows:2\;-webkit-text-stroke-width:0px\;text-decoration-thickness:initial\;text-decoration-style:initial\;word-spacing:0px\;" />\n<br style="font-variant-ligatures:normal\;font-variant-caps:normal\;orphans:2\;text-align:start\;widows:2\;-webkit-text-stroke-width:0px\;text-decoration-thickness:initial\;text-decoration-style:initial\;word-spacing:0px\;" />\n<span style="color:#333333\;"><span style="font-family:arial\,sans-serif\;"><span style="font-size:10.0pt\;"><span style="background:white\;"><span style="font-variant-ligatures:normal\;font-variant-caps:normal\;orphans:2\;text-align:start\;widows:2\;-webkit-text-stroke-width:0px\;text-decoration-thickness:initial\;text-decoration-style:initial\;float:none\;word-spacing:0px\;">Toni Fry\, Primerica&nbsp\; &nbsp\;&nbsp\;</span></span></span></span></span><u style="font-variant-ligatures:normal\;font-variant-caps:normal\;orphans:2\;text-align:start\;widows:2\;-webkit-text-stroke-width:0px\;word-spacing:0px\;"><span style="color:mediumblue\;"><span style="font-family:arial\,sans-serif\;"><span style="font-size:10.0pt\;"><a href="http://www.primerica.com/tonifry">www.primerica.com/tonifry</a></span></span></span></u>
LOCATION:THIS EVENT HAS BEEN CANCELLED. PLEASE STAY TUNED FOR THE ANNOUNCEMENT OF THE NEW DATE. "Keeping Yourself Safe" Presented by Joan Bauer\, Owner\, Narrow Path Investigations What would you do if forced in the face of danger? The goal of this program is to ensure your inner strength is fit for the fight. Most safety courses for women just focus on teaching physical techniques of safety. Joan will dive into cognitive aspects of training your mind Fight or Fright to avoid the Freeze. Joan will also provide you with the skills and capabilities to spot inappropriate behavior\, get yourself out of difficult situations and ultimately be able to defend yourself when and if that becomes a necessary step. Joan is the developer and instructor for the well known S.A.F.E. course (Simple Assertive-Focused-Education). With over 32 years of honorable law enforcement service and an undeniable amount of experience in investigative and undercover work\, Joan founded Narrow Path Investigations. She employs top notch investigators and specialists who provide a diverse range of investigative work.
UID:e.2279.8088
SEQUENCE:3
DTSTAMP:20260426T022821Z
URL:https://business.cfchamber.com/events/details/connecting-women-to-women-cancelled-8088
END:VEVENT

END:VCALENDAR
