BEGIN:VCALENDAR
VERSION:2.0
PRODID:-//ChamberMaster//Event Calendar 2.0//EN
METHOD:PUBLISH
X-PUBLISHED-TTL:P3D
REFRESH-INTERVAL:P3D
CALSCALE:GREGORIAN
BEGIN:VEVENT
DTSTART:20240711T153000Z
DTEND:20240711T170000Z
X-MICROSOFT-CDO-ALLDAYEVENT:FALSE
SUMMARY:Connecting Women to Women 2024
DESCRIPTION:Bio:\n\nAmanda Kostura is a trauma-informed Licensed Independent Social Worker Supervisor with over 13 years of experience in mental health and well-being. As a trauma-informed therapist\, self-care expert\, and nonprofit founder\, Amanda is passionate about helping people heal from trauma\, reduce stress\, and live their best lives.
X-ALT-DESC;FMTTYPE=text/html:<span style="font-size:12px\;"><span style="font-family:verdana\;"><span style="color:black\;"><strong>Bio:</strong></span><br />\n<span style="color:black\;">Amanda Kostura is a trauma-informed Licensed Independent Social Worker Supervisor with over 13 years of experience in mental health and well-being.&nbsp\;As a trauma-informed therapist\, self-care expert\, and nonprofit founder\, Amanda is passionate about helping people heal from trauma\, reduce stress\, and live their best lives.</span></span></span><br />\n&nbsp\;
LOCATION:Cashmere Cricket 2235 Front Street Cuyahoga Falls
UID:e.2279.8556
SEQUENCE:3
DTSTAMP:20260424T220146Z
URL:https://business.cfchamber.com/events/details/connecting-women-to-women-2024-8556
END:VEVENT

END:VCALENDAR
