BEGIN:VCALENDAR
VERSION:2.0
PRODID:-//ChamberMaster//Event Calendar 2.0//EN
METHOD:PUBLISH
X-PUBLISHED-TTL:P3D
REFRESH-INTERVAL:P3D
CALSCALE:GREGORIAN
BEGIN:VEVENT
DTSTART:20231116T163000Z
DTEND:20231116T180000Z
X-MICROSOFT-CDO-ALLDAYEVENT:FALSE
SUMMARY:Connecting Women to Women
DESCRIPTION:"How Google Controls The World"\n\n\n\nGuest Speaker:  A. Elizabeth Orley\n\nDigital Marketing Strategist | Children's Book Writer/Illustrator & 2023 NSME Achievements in Excellence Award Winner. \n\n\n\nElizabeth is known for playing chess with Google.  As a digital marketing professional\, she works with companies to improve their online branding and organic search results.  She is also a children's book author and illustrator and started Little Mind Books during the pandemic.\n\n\n\nIn 2018\, she was awarded the Women of the Community Award and nominated for the Athena Award for her focus on lifting up women business owners in the Northeast Ohio community. Elizabeth is in the 51st Class of the NSME Accent in Excellence Award recipients in 2023. \n\n\n\nToday\, she is honored to be among her peers and surrounded by people who have inspired her to be her best. Special thank you to her husband Andrew\, who always supports her\, and to the two best kids in the world who have given her the only title that has ever mattered...Mom.
X-ALT-DESC;FMTTYPE=text/html:<h3><span style="font-size:14px\;"><span style="font-family:arial\;"><strong><u>&quot\;How Google Controls The World&quot\;</u><br />\n<br />\n<span apple="" color="" droid="" fira="" helvetica="" lucida="" oxygen="" segoe="" style="color: rgba(0\, 0\, 0\, 0.9)\; font-family: -apple-system\, system-ui\, BlinkMacSystemFont\, " ui="">Guest Speaker:&nbsp\; A. Elizabeth Orley</span></strong></span></span></h3>\n\n<h3><span style="font-family:arial\;"><span style="font-size: 14px\;"><span apple="" color="" droid="" fira="" helvetica="" lucida="" oxygen="" segoe="" style="color: rgba(0\, 0\, 0\, 0.9)\; font-family: -apple-system\, system-ui\, BlinkMacSystemFont\, " ui="">Digital Marketing Strategist | Children&#39\;s Book Writer/Illustrator &amp\; 2023 NSME Achievements in Excellence Award Winner.&nbsp\;</span></span><br />\n<br />\n<span style="font-size:12px\;">Elizabeth is known for playing chess with Google.&nbsp\; As a digital marketing professional\, she works with companies to improve their online branding and organic search results.&nbsp\; She is also a children&rsquo\;s book author and illustrator and started Little Mind Books during the pandemic.<br />\n<br />\nIn 2018\, she was awarded the <em>Women of the Community Award</em> and nominated for the <em>Athena Award</em> for her focus on lifting up women business owners in the Northeast Ohio community. Elizabeth is in the 51<sup>st</sup> Class of the<em> NSME Accent in Excellence Award</em> recipients in 2023.&nbsp\;<br />\n<br />\nToday\, she is honored to be among her peers and surrounded by people who have inspired her to be her best.&nbsp\;Special thank you to her husband Andrew\, who always supports her\, and to the two best kids in the world who have given her the only title that has ever mattered...Mom.</span></span></h3>\n<span style="font-size:12px\;">&nbsp\;</span><br />\n<br />\n<br />\n&nbsp\;
LOCATION:Cashmere Cricket 2235 Front Street Cuyahoga Falls
UID:e.2279.8523
SEQUENCE:3
DTSTAMP:20260425T115831Z
URL:https://business.cfchamber.com/events/details/connecting-women-to-women-11-16-2023-8523
END:VEVENT

END:VCALENDAR
