BEGIN:VCALENDAR
VERSION:2.0
PRODID:-//ChamberMaster//Event Calendar 2.0//EN
METHOD:PUBLISH
X-PUBLISHED-TTL:P3D
REFRESH-INTERVAL:P3D
CALSCALE:GREGORIAN
BEGIN:VEVENT
DTSTART:20231010T220000Z
DTEND:20231011T000000Z
X-MICROSOFT-CDO-ALLDAYEVENT:FALSE
SUMMARY:California Dreamin' Wine Tasting October 10 The Wine Mill
DESCRIPTION:
X-ALT-DESC;FMTTYPE=text/html:
LOCATION:Tuesday\, October 10th 6 - 8 p.m. Thank You to The Wine Mill for hosting and sponsoring this event! The Wine Mill 4964 Akron Cleveland Road Peninsula\, Ohio 44264 21 years and over only - no exceptions Dress business casual. Reservations Policy: CLICK HERE
UID:e.2279.8502
SEQUENCE:3
DTSTAMP:20260425T133721Z
URL:https://business.cfchamber.com/events/details/california-dreamin-wine-tasting-october-10-the-wine-mill-8502
END:VEVENT

END:VCALENDAR
