BEGIN:VCALENDAR
VERSION:2.0
PRODID:-//ChamberMaster//Event Calendar 2.0//EN
METHOD:PUBLISH
X-PUBLISHED-TTL:P3D
REFRESH-INTERVAL:P3D
CALSCALE:GREGORIAN
BEGIN:VEVENT
DTSTART:20240522T143000Z
DTEND:20240522T153000Z
X-MICROSOFT-CDO-ALLDAYEVENT:FALSE
SUMMARY:Buffalo Wild Wings Grand Opening & Ribbon Cutting
DESCRIPTION:
X-ALT-DESC;FMTTYPE=text/html:
LOCATION:Buffalo Wild Wings - Ribbon Cutting - Grand Opening! Join us to celebrate the grand opening of Buffalo Wild Wings Cuyahoga Falls location Wednesday\, May 22 at 10:30 a.m. 3001 State Rd\, Cuyahoga Falls\, OH 44223
UID:e.2279.8588
SEQUENCE:3
DTSTAMP:20260425T014549Z
URL:https://business.cfchamber.com/events/details/buffalo-wild-wings-grand-opening-ribbon-cutting-8588
END:VEVENT

END:VCALENDAR
