BEGIN:VCALENDAR
VERSION:2.0
PRODID:-//ChamberMaster//Event Calendar 2.0//EN
METHOD:PUBLISH
X-PUBLISHED-TTL:P3D
REFRESH-INTERVAL:P3D
CALSCALE:GREGORIAN
BEGIN:VEVENT
DTSTART:20230615T200000Z
DTEND:20230615T220000Z
X-MICROSOFT-CDO-ALLDAYEVENT:FALSE
SUMMARY:Ambassador Program Kick-Off Event
DESCRIPTION:We are bringing back our Ambassador Program!
X-ALT-DESC;FMTTYPE=text/html:We are bringing back our Ambassador Program!
LOCATION:Hi-Ho Brewing 1707 Front Street Cuyahoga Falls We are offering you a quick and easy way to connect with new and existing chamber members at no cost to you. Become an Ambassador. Join the ambassador committee and have a warm introduction to new and existing members Low time commitment and great volunteer opportunity Be the friendly face of the chamber Attend events\, ribbon cutting and more as you are able Grow your own business by building relationships with other members Kick off open house June 15\, 4-6pm at HiHO Brewing 1707 Front Street Informal presentation at 4:30pm. Please rsvp to Kathy at kromito@westernreservehospital.org Cannot attend? No problem. You can still join. E-mail me and let me know.
UID:e.2279.8494
SEQUENCE:3
DTSTAMP:20260425T201052Z
URL:https://business.cfchamber.com/events/details/ambassador-program-kick-off-event-8494
END:VEVENT

END:VCALENDAR
