BEGIN:VCALENDAR
VERSION:2.0
PRODID:-//ChamberMaster//Event Calendar 2.0//EN
METHOD:PUBLISH
X-PUBLISHED-TTL:P3D
REFRESH-INTERVAL:P3D
CALSCALE:GREGORIAN
BEGIN:VEVENT
DTSTART:20241206T163000Z
DTEND:20241206T173000Z
X-MICROSOFT-CDO-ALLDAYEVENT:FALSE
SUMMARY:7 Brew Coffee Ribbon Cutting Event
DESCRIPTION:
X-ALT-DESC;FMTTYPE=text/html:
LOCATION:Join us to Celebrate: 7 Brew Ribbon Cutting 699 Howe Ave\, Cuyahoga Falls\, 44223 December 6\, 2024 11:30 am-12:30 pm Chamber Members will receive a free beverage!!!
UID:e.2279.8618
SEQUENCE:3
DTSTAMP:20260424T123546Z
URL:https://business.cfchamber.com/events/details/7-brew-coffee-ribbon-cutting-event-8618
END:VEVENT

END:VCALENDAR
