BEGIN:VCALENDAR
VERSION:2.0
PRODID:-//ChamberMaster//Event Calendar 2.0//EN
METHOD:PUBLISH
X-PUBLISHED-TTL:P3D
REFRESH-INTERVAL:P3D
CALSCALE:GREGORIAN
BEGIN:VEVENT
DTSTART:20230609T113000Z
DTEND:20230609T190000Z
X-MICROSOFT-CDO-ALLDAYEVENT:FALSE
SUMMARY:34th Annual Golf Outing Cuyahoga Falls Chamber
DESCRIPTION:Thank you to our Premier Sponsors -\n\nBrian Roach/Always Be Fair Roofing and Restoration \n\nScott Mitchell/Scott Mitchell Insurance
X-ALT-DESC;FMTTYPE=text/html:<strong><span style="color:#000080\;"><span style="font-size:18px\;">Thank you to our Premier Sponsors -<br />\nBrian Roach/Always Be Fair Roofing and Restoration&nbsp\;<br />\nScott Mitchell/Scott Mitchell Insurance</span></span></strong>
LOCATION:Brookledge Country Club 1621 Bailey Road Cuyahoga Falls Oh 44221
UID:e.2279.8136
SEQUENCE:3
DTSTAMP:20260425T201710Z
URL:https://business.cfchamber.com/events/details/34th-annual-golf-outing-cuyahoga-falls-chamber-8136
END:VEVENT

END:VCALENDAR
