BEGIN:VCALENDAR
VERSION:2.0
PRODID:-//ChamberMaster//Event Calendar 2.0//EN
METHOD:PUBLISH
X-PUBLISHED-TTL:P3D
REFRESH-INTERVAL:P3D
CALSCALE:GREGORIAN
BEGIN:VEVENT
DTSTART:20240918T123000Z
DTEND:20240918T140000Z
X-MICROSOFT-CDO-ALLDAYEVENT:FALSE
SUMMARY:2024 Speaker Series Breakfast at the Cuyahoga Falls Chamber
DESCRIPTION:
X-ALT-DESC;FMTTYPE=text/html:
LOCATION:Where Are the Workers? This presentation will focus on what we learned from 2024 working-age adults about their experiences and attitudes toward work since the pandemic. Guest Speaker: Bishara W. Addison\, Director of Workforce Innovation Bio: Bishara is a graduate of Georgetown University with a Masters in Policy Management through the National Urban Fellowship. She is an experienced advocate with a demonstrated history of working in policy\, thought leadership and coalition management. Skilled in: Philanthropy\, Community Engagement\, Strategy Development and Policy Analysis. Bishara was also named as a part Crain's Cleveland Business 40 Under 40 Class. Breakfast provided by Kitchen on Front Street
UID:e.2279.8550
SEQUENCE:3
DTSTAMP:20260424T203212Z
URL:https://business.cfchamber.com/events/details/2024-speaker-series-breakfast-at-the-cuyahoga-falls-chamber-8550
END:VEVENT

END:VCALENDAR
