BEGIN:VCALENDAR
VERSION:2.0
PRODID:-//ChamberMaster//Event Calendar 2.0//EN
METHOD:PUBLISH
X-PUBLISHED-TTL:P3D
REFRESH-INTERVAL:P3D
CALSCALE:GREGORIAN
BEGIN:VEVENT
DTSTART:20240815T203000Z
DTEND:20240815T220000Z
X-MICROSOFT-CDO-ALLDAYEVENT:FALSE
SUMMARY:2024 Falls After 5 - Cancelled
DESCRIPTION:
X-ALT-DESC;FMTTYPE=text/html:
LOCATION:Falls After Five! Starting at 4:30 p.m. It's August but we're still going strong with our popular "After 5" monthly event even as we wind down the Summer. Thank you to our sponsor\, Gardens of Western Reserve Home Care and Hospice. They will be serving up appetizers\, snacks\, and wine in a quaint Airbnb in the heart of Peninsula Village. Plus Live Music by Ryan Sowers! **The home is located between Akron-Peninsula and Riverview rd. a couple doors from Peninsula Village Antiques. Address: 1715 Main Street\, Peninsula. 44264 Parking: Between 4:30-5pm\, parking is available on site\, approximately 10 - 12 cars. After 5pm\, parking at the Village Antique Store a few doors down from the house\, same side. Gardens of Western Reserve included a map showing available parking areas in addition to the home\, this includes the G.A.R. Hall\, Village Antiques and a couple other options. Map of Available Parking
UID:e.2279.8555
SEQUENCE:3
DTSTAMP:20260424T202615Z
URL:https://business.cfchamber.com/events/details/2024-falls-after-5-cancelled-8555
END:VEVENT

END:VCALENDAR
