BEGIN:VCALENDAR
VERSION:2.0
PRODID:-//ChamberMaster//Event Calendar 2.0//EN
METHOD:PUBLISH
X-PUBLISHED-TTL:P3D
REFRESH-INTERVAL:P3D
CALSCALE:GREGORIAN
BEGIN:VEVENT
DTSTART:20240620T203000Z
DTEND:20240620T220000Z
X-MICROSOFT-CDO-ALLDAYEVENT:FALSE
SUMMARY:2024 Falls After 5
DESCRIPTION:
X-ALT-DESC;FMTTYPE=text/html:
LOCATION:Celebrate the first day of Summer with us at "Falls After Five"! Join us at 4:30 for appetizers\, drinks\, and a chance to mingle with friends and chamber members. In case of bad weather\, the event will be held in the Auditorium. Thanks to Western Reserve Hospital and Digital Sandwich Agency for sponsoring and providing food and drinks. See you there! Location: Western Reserve Hospital -Auditorium 1900 23rd Street\, Cuyahoga Falls 44221 Enter through the back of the hospital\, Entrance 1. Parking available near and around the entrance.
UID:e.2279.8554
SEQUENCE:3
DTSTAMP:20260424T233814Z
URL:https://business.cfchamber.com/events/details/2024-falls-after-5-8554
END:VEVENT

END:VCALENDAR
