BEGIN:VCALENDAR
VERSION:2.0
PRODID:-//ChamberMaster//Event Calendar 2.0//EN
METHOD:PUBLISH
X-PUBLISHED-TTL:P3D
REFRESH-INTERVAL:P3D
CALSCALE:GREGORIAN
BEGIN:VEVENT
DTSTART:20240503T120000Z
DTEND:20240503T140000Z
X-MICROSOFT-CDO-ALLDAYEVENT:FALSE
SUMMARY:2024 - Economic Development Panel - Small Business Week
DESCRIPTION:
X-ALT-DESC;FMTTYPE=text/html:<p><br />\n<span style="font-family:verdana\;"><span style="color:#000000\;"><strong><span style="font-size:16.0pt\;">&#8203\;</span></strong></span></span><br />\n&nbsp\;</p>\n
LOCATION:Western Reserve Hospital 1900 23rd Street Cuyahoga Falls\, 44221 Auditorium I "What Types of Programs are Available For Small Businesses in Summit County" Join us on Friday\, May 3\, at Western Reserve Hospital\, where we will host our Economic Development Panel\, a unique opportunity to hear from key figures shaping our community's future. This panel will feature three speakers representing Cuyahoga Falls\, Summit County\, and the Greater Akron Chamber\, each bringing their unique perspective and expertise to the discussion. This event is for chamber members\, non-members and open to the public for interested in understanding our region's economic landscape and the strategies being implemented to foster growth and prosperity. Our speakers will delve into business development\, community initiatives\, and collaborative efforts to enhance our area's small business growth. Whether you are a local business owner\, a community leader\, or simply a resident keen on the future of Cuyahoga Falls\, Summit County\, and the Greater Akron area\, this panel will provide valuable insights and networking opportunities. Meet Our Panel Diana Colavecchio - Community Development Director\, City of Cuyahoga Falls Alyssa Carpenter - Director\, Economic Development\, Greater Akron Chamber Caitlin Elrad - Economic Development Coordinator\, Summit County Bagels and refreshments will be served from 8 a.m. to 8:30 a.m.\, and our panel discussion will begin at 8:30 a.m. Thank You to Western Reserve Hospital\, our sponsor and host for this event! PARKING Enter around the back of the hospital at Entrance 1 Please park in the E Lot Do not park in patient parking
UID:e.2279.8585
SEQUENCE:3
DTSTAMP:20260425T013150Z
URL:https://business.cfchamber.com/events/details/2024-economic-development-panel-small-business-week-8585
END:VEVENT

END:VCALENDAR
