BEGIN:VCALENDAR
VERSION:2.0
PRODID:-//ChamberMaster//Event Calendar 2.0//EN
METHOD:PUBLISH
X-PUBLISHED-TTL:P3D
REFRESH-INTERVAL:P3D
CALSCALE:GREGORIAN
BEGIN:VEVENT
DTSTART;VALUE=DATE:20180101
DTEND;VALUE=DATE:20180102
TRANSP:TRANSPARENT
X-MICROSOFT-CDO-ALLDAYEVENT:TRUE
SUMMARY:2018 PRESIDENT'S CLUB
DESCRIPTION:Join the MEMBERS ONLY Chamber of Commerce 2018 President's Club and take advantage of the following benefits:\n\n	Recognition at all Chamber Luncheon Meetings:  All President's Club members stand\, and your company name will be announced.\n	Your Company Name on table tents at all the Chamber Monthly Lunch Meetings.\n	Recognition on the Chamber website www.cfchamber.com.\n	Recognition on promotional flyers.\n	Your Business Name listed as a President's Club Member on all Chamber emails.\n	Recognition on the Chamber Facebook Page\, LinkedIn and Twitter announcements.
X-ALT-DESC;FMTTYPE=text/html:Join the MEMBERS ONLY Chamber of Commerce 2018 President&#39\;s Club and take advantage of the following benefits:\n<ul>\n	<li>Recognition at all Chamber Luncheon Meetings: &nbsp\;All President&#39\;s Club members stand\, and your company name will be announced.</li>\n	<li>Your Company Name on table tents at all the Chamber Monthly Lunch Meetings.</li>\n	<li>Recognition on the Chamber website www.cfchamber.com.</li>\n	<li>Recognition on promotional flyers.</li>\n	<li>Your Business Name listed as a President&#39\;s Club Member on all Chamber emails.</li>\n	<li>Recognition on the Chamber Facebook Page\, LinkedIn and Twitter announcements.</li>\n</ul>\n
LOCATION:
UID:e.2279.3753
SEQUENCE:3
DTSTAMP:20260423T095145Z
URL:https://business.cfchamber.com/events/details/2018-president-s-club-3753
END:VEVENT

END:VCALENDAR
